BEGIN:VCALENDAR
VERSION:2.0
PRODID:-//Stratford Country Club - ECPv6.15.20//NONSGML v1.0//EN
CALSCALE:GREGORIAN
METHOD:PUBLISH
X-WR-CALNAME:Stratford Country Club
X-ORIGINAL-URL:https://stratfordcountryclub.ca
X-WR-CALDESC:Events for Stratford Country Club
REFRESH-INTERVAL;VALUE=DURATION:PT1H
X-Robots-Tag:noindex
X-PUBLISHED-TTL:PT1H
BEGIN:VTIMEZONE
TZID:UTC
BEGIN:STANDARD
TZOFFSETFROM:+0000
TZOFFSETTO:+0000
TZNAME:UTC
DTSTART:20180101T000000
END:STANDARD
END:VTIMEZONE
BEGIN:VEVENT
DTSTART;VALUE=DATE:20190928
DTEND;VALUE=DATE:20190930
DTSTAMP:20260423T060059
CREATED:20190710T143143Z
LAST-MODIFIED:20190710T143143Z
UID:761-1569628800-1569801599@stratfordcountryclub.ca
SUMMARY:Sleeman Cup Matches vs. Listowel GC
DESCRIPTION:
URL:https://stratfordcountryclub.ca/event/sleeman-cup-matches-vs-listowel-gc/
END:VEVENT
BEGIN:VEVENT
DTSTART;TZID=UTC:20190927T183000
DTEND;TZID=UTC:20190927T233000
DTSTAMP:20260423T060059
CREATED:20190927T155816Z
LAST-MODIFIED:20190927T155816Z
UID:932-1569609000-1569627000@stratfordcountryclub.ca
SUMMARY:Tuesday Evening Curling League
DESCRIPTION:
URL:https://stratfordcountryclub.ca/event/tuesday-evening-curling-league-4/
END:VEVENT
BEGIN:VEVENT
DTSTART;TZID=UTC:20190927T180000
DTEND;TZID=UTC:20190927T233000
DTSTAMP:20260423T060059
CREATED:20190927T162410Z
LAST-MODIFIED:20190927T162410Z
UID:940-1569607200-1569627000@stratfordcountryclub.ca
SUMMARY:Tuesday Evening Curling League
DESCRIPTION:
URL:https://stratfordcountryclub.ca/event/tuesday-evening-curling-league-8/
END:VEVENT
BEGIN:VEVENT
DTSTART;VALUE=DATE:20190926
DTEND;VALUE=DATE:20190927
DTSTAMP:20260423T060059
CREATED:20190710T142741Z
LAST-MODIFIED:20190710T142741Z
UID:753-1569456000-1569542399@stratfordcountryclub.ca
SUMMARY:Private Golf Tournament
DESCRIPTION:
URL:https://stratfordcountryclub.ca/event/private-golf-tournament/
END:VEVENT
BEGIN:VEVENT
DTSTART;VALUE=DATE:20190919
DTEND;VALUE=DATE:20190920
DTSTAMP:20260423T060059
CREATED:20190710T142715Z
LAST-MODIFIED:20190710T142715Z
UID:751-1568851200-1568937599@stratfordcountryclub.ca
SUMMARY:Tri County Golf League
DESCRIPTION:
URL:https://stratfordcountryclub.ca/event/tri-county-golf-league/
END:VEVENT
BEGIN:VEVENT
DTSTART;TZID=UTC:20190914T080000
DTEND;TZID=UTC:20190915T170000
DTSTAMP:20260423T060059
CREATED:20190710T143102Z
LAST-MODIFIED:20190710T143102Z
UID:759-1568448000-1568566800@stratfordcountryclub.ca
SUMMARY:Romeo St Cup Matches vs. Stratford Municipal
DESCRIPTION:
URL:https://stratfordcountryclub.ca/event/romeo-st-cup-matches-vs-stratford-municipal/
END:VEVENT
BEGIN:VEVENT
DTSTART;TZID=UTC:20190914T080000
DTEND;TZID=UTC:20190915T170000
DTSTAMP:20260423T060059
CREATED:20190710T143009Z
LAST-MODIFIED:20190710T143009Z
UID:757-1568448000-1568566800@stratfordcountryclub.ca
SUMMARY:Route 59 Women's Matches - vs Craigowan
DESCRIPTION:
URL:https://stratfordcountryclub.ca/event/route-59-womens-matches-vs-craigowan/
END:VEVENT
BEGIN:VEVENT
DTSTART;VALUE=DATE:20190909
DTEND;VALUE=DATE:20190910
DTSTAMP:20260423T060059
CREATED:20190710T142552Z
LAST-MODIFIED:20190710T142552Z
UID:749-1567987200-1568073599@stratfordcountryclub.ca
SUMMARY:CLSA Golf Tournament
DESCRIPTION:
URL:https://stratfordcountryclub.ca/event/clsa-golf-tournament/
END:VEVENT
BEGIN:VEVENT
DTSTART;VALUE=DATE:20190826
DTEND;VALUE=DATE:20190827
DTSTAMP:20260423T060059
CREATED:20190710T142528Z
LAST-MODIFIED:20190710T142528Z
UID:747-1566777600-1566863999@stratfordcountryclub.ca
SUMMARY:Bentley's Golf Tournament
DESCRIPTION:
URL:https://stratfordcountryclub.ca/event/bentleys-golf-tournament/
END:VEVENT
BEGIN:VEVENT
DTSTART;TZID=UTC:20190822T130000
DTEND;TZID=UTC:20190822T190000
DTSTAMP:20260423T060059
CREATED:20190701T135742Z
LAST-MODIFIED:20190701T135742Z
UID:730-1566478800-1566500400@stratfordcountryclub.ca
SUMMARY:Inaugural Women's Team Scramble
DESCRIPTION:1st-annual-4-lady-scramble-2019
URL:https://stratfordcountryclub.ca/event/inaugural-womens-team-scramble/
END:VEVENT
BEGIN:VEVENT
DTSTART;TZID=UTC:20190820T080000
DTEND;TZID=UTC:20190824T170000
DTSTAMP:20260423T060059
CREATED:20190620T131427Z
LAST-MODIFIED:20190620T131427Z
UID:717-1566288000-1566666000@stratfordcountryclub.ca
SUMMARY:Junior Golf & Art Camp
DESCRIPTION:
URL:https://stratfordcountryclub.ca/event/junior-golf-art-camp/
END:VEVENT
BEGIN:VEVENT
DTSTART;TZID=UTC:20190819T080000
DTEND;TZID=UTC:20190819T170000
DTSTAMP:20260423T060059
CREATED:20190710T142308Z
LAST-MODIFIED:20190710T142308Z
UID:741-1566201600-1566234000@stratfordcountryclub.ca
SUMMARY:Teahen Childrens Charity Golf Tournament
DESCRIPTION:
URL:https://stratfordcountryclub.ca/event/teahen-childrens-charity-golf-tournament/
END:VEVENT
BEGIN:VEVENT
DTSTART;VALUE=DATE:20190817
DTEND;VALUE=DATE:20190819
DTSTAMP:20260423T060059
CREATED:20190710T142206Z
LAST-MODIFIED:20190710T142206Z
UID:739-1566000000-1566172799@stratfordcountryclub.ca
SUMMARY:Club Championship Weekend
DESCRIPTION:
URL:https://stratfordcountryclub.ca/event/club-championship-weekend/
END:VEVENT
BEGIN:VEVENT
DTSTART;TZID=UTC:20190812T080000
DTEND;TZID=UTC:20190816T170000
DTSTAMP:20260423T060059
CREATED:20190620T131359Z
LAST-MODIFIED:20190620T131443Z
UID:715-1565596800-1565974800@stratfordcountryclub.ca
SUMMARY:Junior Golf & Art Camp
DESCRIPTION:
URL:https://stratfordcountryclub.ca/event/golf-art-camp/
END:VEVENT
BEGIN:VEVENT
DTSTART;TZID=UTC:20190811T140000
DTEND;TZID=UTC:20190811T190000
DTSTAMP:20260423T060059
CREATED:20190710T142450Z
LAST-MODIFIED:20190710T142450Z
UID:745-1565532000-1565550000@stratfordcountryclub.ca
SUMMARY:Junior Club Championship
DESCRIPTION:
URL:https://stratfordcountryclub.ca/event/junior-club-championship/
END:VEVENT
BEGIN:VEVENT
DTSTART;VALUE=DATE:20190807
DTEND;VALUE=DATE:20190808
DTSTAMP:20260423T060059
CREATED:20190710T142345Z
LAST-MODIFIED:20190710T142404Z
UID:743-1565136000-1565222399@stratfordcountryclub.ca
SUMMARY:Huron Perth Junior Tour Tournament
DESCRIPTION:
URL:https://stratfordcountryclub.ca/event/huron-perth-junior-tour-tournament/
END:VEVENT
BEGIN:VEVENT
DTSTART;TZID=UTC:20190804T080000
DTEND;TZID=UTC:20190804T170000
DTSTAMP:20260423T060059
CREATED:20190620T123202Z
LAST-MODIFIED:20190620T131231Z
UID:711-1564905600-1564938000@stratfordcountryclub.ca
SUMMARY:Annual Married Couples Tournament
DESCRIPTION:
URL:https://stratfordcountryclub.ca/event/annual-married-couples-tournament/
END:VEVENT
BEGIN:VEVENT
DTSTART;TZID=UTC:20190726T170000
DTEND;TZID=UTC:20190726T200000
DTSTAMP:20260423T060059
CREATED:20190620T114028Z
LAST-MODIFIED:20190620T152631Z
UID:691-1564160400-1564171200@stratfordcountryclub.ca
SUMMARY:Rory's Patio Party
DESCRIPTION:
URL:https://stratfordcountryclub.ca/event/rorys-patio-party/
END:VEVENT
BEGIN:VEVENT
DTSTART;TZID=UTC:20190726T080000
DTEND;TZID=UTC:20190727T170000
DTSTAMP:20260423T060059
CREATED:20190620T122522Z
LAST-MODIFIED:20190620T122522Z
UID:709-1564128000-1564246800@stratfordcountryclub.ca
SUMMARY:Member Member Invitational
DESCRIPTION:
URL:https://stratfordcountryclub.ca/event/member-member-invitational/
END:VEVENT
BEGIN:VEVENT
DTSTART;VALUE=DATE:20190722
DTEND;VALUE=DATE:20190727
DTSTAMP:20260423T060059
CREATED:20190620T114357Z
LAST-MODIFIED:20190620T114357Z
UID:696-1563753600-1564185599@stratfordcountryclub.ca
SUMMARY:Junior Golf & Tennis Camp
DESCRIPTION:
URL:https://stratfordcountryclub.ca/event/junior-golf-tennis-camp-2/
END:VEVENT
BEGIN:VEVENT
DTSTART;VALUE=DATE:20190715
DTEND;VALUE=DATE:20190716
DTSTAMP:20260423T060059
CREATED:20190620T114520Z
LAST-MODIFIED:20190620T114731Z
UID:698-1563148800-1563235199@stratfordcountryclub.ca
SUMMARY:Annual Two Women's Better Ball Tournament
DESCRIPTION:
URL:https://stratfordcountryclub.ca/event/annual-two-womens-better-ball-tournament/
END:VEVENT
BEGIN:VEVENT
DTSTART;VALUE=DATE:20190708
DTEND;VALUE=DATE:20190713
DTSTAMP:20260423T060059
CREATED:20190620T114323Z
LAST-MODIFIED:20190620T114323Z
UID:694-1562544000-1562975999@stratfordcountryclub.ca
SUMMARY:Junior Golf & Tennis Camp
DESCRIPTION:
URL:https://stratfordcountryclub.ca/event/junior-golf-tennis-camp/
END:VEVENT
BEGIN:VEVENT
DTSTART;VALUE=DATE:20190624
DTEND;VALUE=DATE:20190625
DTSTAMP:20260423T060059
CREATED:20190620T122400Z
LAST-MODIFIED:20190620T131204Z
UID:707-1561334400-1561420799@stratfordcountryclub.ca
SUMMARY:Alzheimer Society Golf Tournament
DESCRIPTION:Fore! The Memories Golf Tournament
URL:https://stratfordcountryclub.ca/event/alzheimer-society-golf-tournament/
END:VEVENT
BEGIN:VEVENT
DTSTART;TZID=UTC:20190623T140000
DTEND;TZID=UTC:20190623T200000
DTSTAMP:20260423T060059
CREATED:20190620T122226Z
LAST-MODIFIED:20190620T122226Z
UID:705-1561298400-1561320000@stratfordcountryclub.ca
SUMMARY:CJGA Jr Golf Tournament
DESCRIPTION:
URL:https://stratfordcountryclub.ca/event/cjga-jr-golf-tournament-2/
END:VEVENT
BEGIN:VEVENT
DTSTART;TZID=UTC:20190622T140000
DTEND;TZID=UTC:20190622T200000
DTSTAMP:20260423T060059
CREATED:20190620T122155Z
LAST-MODIFIED:20190620T122155Z
UID:703-1561212000-1561233600@stratfordcountryclub.ca
SUMMARY:CJGA Jr Golf Tournament
DESCRIPTION:
URL:https://stratfordcountryclub.ca/event/cjga-jr-golf-tournament/
END:VEVENT
BEGIN:VEVENT
DTSTART;VALUE=DATE:20190301
DTEND;VALUE=DATE:20190302
DTSTAMP:20260423T060059
CREATED:20190307T011324Z
LAST-MODIFIED:20190307T011324Z
UID:521-1551398400-1551484799@stratfordcountryclub.ca
SUMMARY:Camp Registration Opens
DESCRIPTION:
URL:https://stratfordcountryclub.ca/event/camp-registration-opens/
LOCATION:Stratford Country Club\, 53 Romeo Street North\, Stratford\, ON\, N5A 6S2\, Canada
END:VEVENT
END:VCALENDAR