BEGIN:VCALENDAR
VERSION:2.0
PRODID:-//Stratford Country Club - ECPv6.15.20//NONSGML v1.0//EN
CALSCALE:GREGORIAN
METHOD:PUBLISH
X-WR-CALNAME:Stratford Country Club
X-ORIGINAL-URL:https://stratfordcountryclub.ca
X-WR-CALDESC:Events for Stratford Country Club
REFRESH-INTERVAL;VALUE=DURATION:PT1H
X-Robots-Tag:noindex
X-PUBLISHED-TTL:PT1H
BEGIN:VTIMEZONE
TZID:UTC
BEGIN:STANDARD
TZOFFSETFROM:+0000
TZOFFSETTO:+0000
TZNAME:UTC
DTSTART:20180101T000000
END:STANDARD
END:VTIMEZONE
BEGIN:VEVENT
DTSTART;TZID=UTC:20191219T180000
DTEND;TZID=UTC:20191219T233000
DTSTAMP:20260422T230317
CREATED:20190927T213128Z
LAST-MODIFIED:20190927T213128Z
UID:1022-1576778400-1576798200@stratfordcountryclub.ca
SUMMARY:Thursday Evening Mixed League
DESCRIPTION:
URL:https://stratfordcountryclub.ca/event/thursday-evening-mixed-league-8/
END:VEVENT
BEGIN:VEVENT
DTSTART;TZID=UTC:20191218T180000
DTEND;TZID=UTC:20191218T233000
DTSTAMP:20260422T230317
CREATED:20190927T191711Z
LAST-MODIFIED:20190927T191711Z
UID:983-1576692000-1576711800@stratfordcountryclub.ca
SUMMARY:Wednesday Evening Curling League
DESCRIPTION:
URL:https://stratfordcountryclub.ca/event/wednesday-evening-curling-league-8/
END:VEVENT
BEGIN:VEVENT
DTSTART;TZID=UTC:20191217T180000
DTEND;TZID=UTC:20191217T233000
DTSTAMP:20260422T230317
CREATED:20190927T155856Z
LAST-MODIFIED:20190927T155856Z
UID:934-1576605600-1576625400@stratfordcountryclub.ca
SUMMARY:Tuesday Evening Curling League
DESCRIPTION:
URL:https://stratfordcountryclub.ca/event/tuesday-evening-curling-league-5/
END:VEVENT
BEGIN:VEVENT
DTSTART;TZID=UTC:20191216T180000
DTEND;TZID=UTC:20191216T193000
DTSTAMP:20260422T230317
CREATED:20190919T132028Z
LAST-MODIFIED:20190919T132058Z
UID:871-1576519200-1576524600@stratfordcountryclub.ca
SUMMARY:Adult Learn to Curl
DESCRIPTION:
URL:https://stratfordcountryclub.ca/event/adult-learn-to-curl-6/
END:VEVENT
BEGIN:VEVENT
DTSTART;TZID=UTC:20191215T083000
DTEND;TZID=UTC:20191215T130000
DTSTAMP:20260422T230317
CREATED:20190929T221107Z
LAST-MODIFIED:20190929T221107Z
UID:1106-1576398600-1576414800@stratfordcountryclub.ca
SUMMARY:Sunday Morning Curling League
DESCRIPTION:
URL:https://stratfordcountryclub.ca/event/sunday-morning-curling-league-3/
END:VEVENT
BEGIN:VEVENT
DTSTART;TZID=UTC:20191213T180000
DTEND;TZID=UTC:20191213T213000
DTSTAMP:20260422T230317
CREATED:20190929T214333Z
LAST-MODIFIED:20190929T214333Z
UID:1060-1576260000-1576272600@stratfordcountryclub.ca
SUMMARY:Friday Evening Mixed League
DESCRIPTION:
URL:https://stratfordcountryclub.ca/event/friday-evening-mixed-league-7/
END:VEVENT
BEGIN:VEVENT
DTSTART;TZID=UTC:20191212T180000
DTEND;TZID=UTC:20191212T233000
DTSTAMP:20260422T230317
CREATED:20190927T213055Z
LAST-MODIFIED:20190927T213055Z
UID:1020-1576173600-1576193400@stratfordcountryclub.ca
SUMMARY:Thursday Evening Mixed League
DESCRIPTION:
URL:https://stratfordcountryclub.ca/event/thursday-evening-mixed-league-7/
END:VEVENT
BEGIN:VEVENT
DTSTART;TZID=UTC:20191211T180000
DTEND;TZID=UTC:20191211T233000
DTSTAMP:20260422T230317
CREATED:20190927T191648Z
LAST-MODIFIED:20190927T191648Z
UID:981-1576087200-1576107000@stratfordcountryclub.ca
SUMMARY:Wednesday Evening Curling League
DESCRIPTION:
URL:https://stratfordcountryclub.ca/event/wednesday-evening-curling-league-7/
END:VEVENT
BEGIN:VEVENT
DTSTART;TZID=UTC:20191211T080000
DTEND;TZID=UTC:20191211T153000
DTSTAMP:20260422T230317
CREATED:20191116T150326Z
LAST-MODIFIED:20191116T150333Z
UID:1218-1576051200-1576078200@stratfordcountryclub.ca
SUMMARY:Senior Men's Bonspiel
DESCRIPTION:
URL:https://stratfordcountryclub.ca/event/senior-mens-bonspiel/
END:VEVENT
BEGIN:VEVENT
DTSTART;TZID=UTC:20191210T180000
DTEND;TZID=UTC:20191210T233000
DTSTAMP:20260422T230317
CREATED:20190927T155750Z
LAST-MODIFIED:20190927T155750Z
UID:930-1576000800-1576020600@stratfordcountryclub.ca
SUMMARY:Tuesday Evening Curling League
DESCRIPTION:
URL:https://stratfordcountryclub.ca/event/tuesday-evening-curling-league-3/
END:VEVENT
BEGIN:VEVENT
DTSTART;TZID=UTC:20191209T180000
DTEND;TZID=UTC:20191209T193000
DTSTAMP:20260422T230317
CREATED:20190919T132129Z
LAST-MODIFIED:20190919T132129Z
UID:873-1575914400-1575919800@stratfordcountryclub.ca
SUMMARY:Adult Learn to Curl
DESCRIPTION:
URL:https://stratfordcountryclub.ca/event/adult-learn-to-curl-7/
END:VEVENT
BEGIN:VEVENT
DTSTART;TZID=UTC:20191208T083000
DTEND;TZID=UTC:20191208T130000
DTSTAMP:20260422T230317
CREATED:20190929T221041Z
LAST-MODIFIED:20190929T221041Z
UID:1104-1575793800-1575810000@stratfordcountryclub.ca
SUMMARY:Sunday Morning Curling League
DESCRIPTION:
URL:https://stratfordcountryclub.ca/event/sunday-morning-curling-league-2/
END:VEVENT
BEGIN:VEVENT
DTSTART;TZID=UTC:20191206T180000
DTEND;TZID=UTC:20191206T213000
DTSTAMP:20260422T230317
CREATED:20190929T214307Z
LAST-MODIFIED:20190929T214307Z
UID:1058-1575655200-1575667800@stratfordcountryclub.ca
SUMMARY:Friday Evening Mixed League
DESCRIPTION:
URL:https://stratfordcountryclub.ca/event/friday-evening-mixed-league-6/
END:VEVENT
BEGIN:VEVENT
DTSTART;TZID=UTC:20191205T180000
DTEND;TZID=UTC:20191205T233000
DTSTAMP:20260422T230317
CREATED:20190927T213032Z
LAST-MODIFIED:20190927T213032Z
UID:1018-1575568800-1575588600@stratfordcountryclub.ca
SUMMARY:Thursday Evening Mixed League
DESCRIPTION:
URL:https://stratfordcountryclub.ca/event/thursday-evening-mixed-league-6/
END:VEVENT
BEGIN:VEVENT
DTSTART;TZID=UTC:20191204T180000
DTEND;TZID=UTC:20191204T233000
DTSTAMP:20260422T230317
CREATED:20190927T191609Z
LAST-MODIFIED:20190927T191609Z
UID:979-1575482400-1575502200@stratfordcountryclub.ca
SUMMARY:Wednesday Evening Curling League
DESCRIPTION:
URL:https://stratfordcountryclub.ca/event/wednesday-evening-curling-league-6/
END:VEVENT
BEGIN:VEVENT
DTSTART;TZID=UTC:20191203T180000
DTEND;TZID=UTC:20191203T233000
DTSTAMP:20260422T230317
CREATED:20190927T155728Z
LAST-MODIFIED:20190927T155728Z
UID:928-1575396000-1575415800@stratfordcountryclub.ca
SUMMARY:Tuesday Evening Curling League
DESCRIPTION:
URL:https://stratfordcountryclub.ca/event/tuesday-evening-curling-league-2/
END:VEVENT
BEGIN:VEVENT
DTSTART;TZID=UTC:20191202T180000
DTEND;TZID=UTC:20191202T193000
DTSTAMP:20260422T230317
CREATED:20190919T125951Z
LAST-MODIFIED:20190919T131956Z
UID:869-1575309600-1575315000@stratfordcountryclub.ca
SUMMARY:Adult Learn to Curl
DESCRIPTION:
URL:https://stratfordcountryclub.ca/event/adult-learn-to-curl-5/
END:VEVENT
BEGIN:VEVENT
DTSTART;TZID=UTC:20191201T083000
DTEND;TZID=UTC:20191201T130000
DTSTAMP:20260422T230317
CREATED:20190929T220135Z
LAST-MODIFIED:20190929T220135Z
UID:1102-1575189000-1575205200@stratfordcountryclub.ca
SUMMARY:Sunday Morning Curling League
DESCRIPTION:
URL:https://stratfordcountryclub.ca/event/sunday-morning-curling-league/
END:VEVENT
BEGIN:VEVENT
DTSTART;TZID=UTC:20191129T180000
DTEND;TZID=UTC:20191129T213000
DTSTAMP:20260422T230317
CREATED:20190929T214227Z
LAST-MODIFIED:20190929T214227Z
UID:1056-1575050400-1575063000@stratfordcountryclub.ca
SUMMARY:Friday Evening Mixed League
DESCRIPTION:
URL:https://stratfordcountryclub.ca/event/friday-evening-mixed-league-5/
END:VEVENT
BEGIN:VEVENT
DTSTART;TZID=UTC:20191128T180000
DTEND;TZID=UTC:20191128T233000
DTSTAMP:20260422T230317
CREATED:20190927T212956Z
LAST-MODIFIED:20190927T212956Z
UID:1016-1574964000-1574983800@stratfordcountryclub.ca
SUMMARY:Thursday Evening Mixed League
DESCRIPTION:
URL:https://stratfordcountryclub.ca/event/thursday-evening-mixed-league-5/
END:VEVENT
BEGIN:VEVENT
DTSTART;TZID=UTC:20191127T180000
DTEND;TZID=UTC:20191127T233000
DTSTAMP:20260422T230317
CREATED:20190927T191410Z
LAST-MODIFIED:20190927T191410Z
UID:977-1574877600-1574897400@stratfordcountryclub.ca
SUMMARY:Wednesday Evening Curling League
DESCRIPTION:
URL:https://stratfordcountryclub.ca/event/wednesday-evening-curling-league-5/
END:VEVENT
BEGIN:VEVENT
DTSTART;TZID=UTC:20191126T180000
DTEND;TZID=UTC:20191126T233000
DTSTAMP:20260422T230317
CREATED:20190927T155318Z
LAST-MODIFIED:20190927T155540Z
UID:920-1574791200-1574811000@stratfordcountryclub.ca
SUMMARY:Tuesday Evening Curling League
DESCRIPTION:
URL:https://stratfordcountryclub.ca/event/tuesday-evening-league-4/
END:VEVENT
BEGIN:VEVENT
DTSTART;TZID=UTC:20191125T180000
DTEND;TZID=UTC:20191125T193000
DTSTAMP:20260422T230317
CREATED:20190919T125337Z
LAST-MODIFIED:20190919T125358Z
UID:864-1574704800-1574710200@stratfordcountryclub.ca
SUMMARY:Adult Learn to Curl
DESCRIPTION:
URL:https://stratfordcountryclub.ca/event/adult-learn-to-curl-4/
END:VEVENT
BEGIN:VEVENT
DTSTART;TZID=UTC:20191124T083000
DTEND;TZID=UTC:20191124T130000
DTSTAMP:20260422T230317
CREATED:20190929T215802Z
LAST-MODIFIED:20190929T215940Z
UID:1094-1574584200-1574600400@stratfordcountryclub.ca
SUMMARY:Sunday Morning Curling League
DESCRIPTION:
URL:https://stratfordcountryclub.ca/event/sunday-morning-league-6/
END:VEVENT
BEGIN:VEVENT
DTSTART;VALUE=DATE:20191123
DTEND;VALUE=DATE:20191124
DTSTAMP:20260422T230317
CREATED:20190930T145515Z
LAST-MODIFIED:20190930T145515Z
UID:1135-1574467200-1574553599@stratfordcountryclub.ca
SUMMARY:WoodFord Cup @ Woodstock Curling
DESCRIPTION:
URL:https://stratfordcountryclub.ca/event/woodford-cup-woodstock-curling/
END:VEVENT
BEGIN:VEVENT
DTSTART;TZID=UTC:20191122T180000
DTEND;TZID=UTC:20191122T213000
DTSTAMP:20260422T230317
CREATED:20190929T214152Z
LAST-MODIFIED:20190929T214152Z
UID:1054-1574445600-1574458200@stratfordcountryclub.ca
SUMMARY:Friday Evening Mixed League
DESCRIPTION:
URL:https://stratfordcountryclub.ca/event/friday-evening-mixed-league-4/
END:VEVENT
BEGIN:VEVENT
DTSTART;TZID=UTC:20191121T180000
DTEND;TZID=UTC:20191121T233000
DTSTAMP:20260422T230317
CREATED:20190927T212919Z
LAST-MODIFIED:20190927T212919Z
UID:1013-1574359200-1574379000@stratfordcountryclub.ca
SUMMARY:Thursday Evening Mixed League
DESCRIPTION:
URL:https://stratfordcountryclub.ca/event/thursday-evening-mixed-league-4/
END:VEVENT
BEGIN:VEVENT
DTSTART;TZID=UTC:20191120T180000
DTEND;TZID=UTC:20191120T233000
DTSTAMP:20260422T230317
CREATED:20190927T191323Z
LAST-MODIFIED:20190927T191323Z
UID:975-1574272800-1574292600@stratfordcountryclub.ca
SUMMARY:Wednesday Evening Curling League
DESCRIPTION:
URL:https://stratfordcountryclub.ca/event/wednesday-evening-curling-league-4/
END:VEVENT
BEGIN:VEVENT
DTSTART;TZID=UTC:20191119T180000
DTEND;TZID=UTC:20191119T233000
DTSTAMP:20260422T230317
CREATED:20190927T155237Z
LAST-MODIFIED:20190927T155555Z
UID:918-1574186400-1574206200@stratfordcountryclub.ca
SUMMARY:Tuesday Evening Curling League
DESCRIPTION:
URL:https://stratfordcountryclub.ca/event/tuesday-evening-league-3/
END:VEVENT
BEGIN:VEVENT
DTSTART;TZID=UTC:20191118T180000
DTEND;TZID=UTC:20191118T193000
DTSTAMP:20260422T230317
CREATED:20190919T125302Z
LAST-MODIFIED:20190919T125306Z
UID:862-1574100000-1574105400@stratfordcountryclub.ca
SUMMARY:Adult Learn to Curl
DESCRIPTION:
URL:https://stratfordcountryclub.ca/event/adult-learn-to-curl-3/
END:VEVENT
END:VCALENDAR