BEGIN:VCALENDAR
VERSION:2.0
PRODID:-//Stratford Country Club - ECPv6.15.20//NONSGML v1.0//EN
CALSCALE:GREGORIAN
METHOD:PUBLISH
X-WR-CALNAME:Stratford Country Club
X-ORIGINAL-URL:https://stratfordcountryclub.ca
X-WR-CALDESC:Events for Stratford Country Club
REFRESH-INTERVAL;VALUE=DURATION:PT1H
X-Robots-Tag:noindex
X-PUBLISHED-TTL:PT1H
BEGIN:VTIMEZONE
TZID:UTC
BEGIN:STANDARD
TZOFFSETFROM:+0000
TZOFFSETTO:+0000
TZNAME:UTC
DTSTART:20240101T000000
END:STANDARD
END:VTIMEZONE
BEGIN:VEVENT
DTSTART;TZID=UTC:20250918T140000
DTEND;TZID=UTC:20250918T180000
DTSTAMP:20260425T112107
CREATED:20250516T142424Z
LAST-MODIFIED:20250516T142424Z
UID:5337-1758204000-1758218400@stratfordcountryclub.ca
SUMMARY:Festival Hydro Golf Event
DESCRIPTION:Tee Times at 2pm
URL:https://stratfordcountryclub.ca/event/festival-hydro-golf-event/
END:VEVENT
END:VCALENDAR