BEGIN:VCALENDAR
VERSION:2.0
PRODID:-//Stratford Country Club - ECPv6.15.20//NONSGML v1.0//EN
CALSCALE:GREGORIAN
METHOD:PUBLISH
X-WR-CALNAME:Stratford Country Club
X-ORIGINAL-URL:https://stratfordcountryclub.ca
X-WR-CALDESC:Events for Stratford Country Club
REFRESH-INTERVAL;VALUE=DURATION:PT1H
X-Robots-Tag:noindex
X-PUBLISHED-TTL:PT1H
BEGIN:VTIMEZONE
TZID:UTC
BEGIN:STANDARD
TZOFFSETFROM:+0000
TZOFFSETTO:+0000
TZNAME:UTC
DTSTART:20240101T000000
END:STANDARD
END:VTIMEZONE
BEGIN:VEVENT
DTSTART;TZID=UTC:20250730T163000
DTEND;TZID=UTC:20250730T183000
DTSTAMP:20260423T170051
CREATED:20250710T153004Z
LAST-MODIFIED:20250710T153749Z
UID:5428-1753893000-1753900200@stratfordcountryclub.ca
SUMMARY:Swing for the Girls Golf Program
DESCRIPTION:Driving range reserved for this instructional program!
URL:https://stratfordcountryclub.ca/event/swing-for-the-girls-golf-program-4/
END:VEVENT
END:VCALENDAR