BEGIN:VCALENDAR
VERSION:2.0
PRODID:-//Stratford Country Club - ECPv6.15.20//NONSGML v1.0//EN
CALSCALE:GREGORIAN
METHOD:PUBLISH
X-ORIGINAL-URL:https://stratfordcountryclub.ca
X-WR-CALDESC:Events for Stratford Country Club
REFRESH-INTERVAL;VALUE=DURATION:PT1H
X-Robots-Tag:noindex
X-PUBLISHED-TTL:PT1H
BEGIN:VTIMEZONE
TZID:UTC
BEGIN:STANDARD
TZOFFSETFROM:+0000
TZOFFSETTO:+0000
TZNAME:UTC
DTSTART:20240101T000000
END:STANDARD
END:VTIMEZONE
BEGIN:VEVENT
DTSTART;TZID=UTC:20250727T183000
DTEND;TZID=UTC:20250727T203000
DTSTAMP:20260423T124933
CREATED:20250626T171058Z
LAST-MODIFIED:20250626T171058Z
UID:5398-1753641000-1753648200@stratfordcountryclub.ca
SUMMARY:Social Sunday featuring Megan & Brady
DESCRIPTION:Join us for our Social Sunday on Sunday July 27 at a new time of 6:30- 8:30pm! Perfect date night for you and your favorite person.   Email 53North@stratfordcountryclub.ca to reserve your table today!
URL:https://stratfordcountryclub.ca/event/social-sunday-featuring-megan-brady/
LOCATION:53 North Restaurant\, 53 Romeo Street North\, Stratford\, ON\, N5A 6S2\, Canada
END:VEVENT
END:VCALENDAR