BEGIN:VCALENDAR
VERSION:2.0
PRODID:-//Stratford Country Club - ECPv6.15.20//NONSGML v1.0//EN
CALSCALE:GREGORIAN
METHOD:PUBLISH
X-ORIGINAL-URL:https://stratfordcountryclub.ca
X-WR-CALDESC:Events for Stratford Country Club
REFRESH-INTERVAL;VALUE=DURATION:PT1H
X-Robots-Tag:noindex
X-PUBLISHED-TTL:PT1H
BEGIN:VTIMEZONE
TZID:UTC
BEGIN:STANDARD
TZOFFSETFROM:+0000
TZOFFSETTO:+0000
TZNAME:UTC
DTSTART:20240101T000000
END:STANDARD
END:VTIMEZONE
BEGIN:VEVENT
DTSTART;TZID=UTC:20250721T090000
DTEND;TZID=UTC:20250725T160000
DTSTAMP:20260423T124935
CREATED:20250113T144532Z
LAST-MODIFIED:20250113T144608Z
UID:4873-1753088400-1753459200@stratfordcountryclub.ca
SUMMARY:Junior Golf Camp - Golf & Tennis or Soccer
DESCRIPTION:Golf 9am-12pm \nLunch 12pm-1pm \nTennis or Soccer – 1pm-4pm
URL:https://stratfordcountryclub.ca/event/junior-golf-camp-golf-tennis-or-soccer-2/
END:VEVENT
BEGIN:VEVENT
DTSTART;TZID=UTC:20250723T130000
DTEND;TZID=UTC:20250723T190000
DTSTAMP:20260423T124935
CREATED:20250514T180413Z
LAST-MODIFIED:20250514T180725Z
UID:5320-1753275600-1753297200@stratfordcountryclub.ca
SUMMARY:Rotary Club of Stratford Tournament
DESCRIPTION:
URL:https://stratfordcountryclub.ca/event/rotary-club-of-stratford-tourament/
END:VEVENT
BEGIN:VEVENT
DTSTART;TZID=UTC:20250723T163000
DTEND;TZID=UTC:20250723T183000
DTSTAMP:20260423T124935
CREATED:20250710T152733Z
LAST-MODIFIED:20250710T152825Z
UID:5426-1753288200-1753295400@stratfordcountryclub.ca
SUMMARY:Swing for the Girls Golf Program
DESCRIPTION:Driving range reserved for this instructional program!
URL:https://stratfordcountryclub.ca/event/swing-for-the-girls-golf-program-3/
END:VEVENT
END:VCALENDAR