BEGIN:VCALENDAR
VERSION:2.0
PRODID:-//Stratford Country Club - ECPv6.15.20//NONSGML v1.0//EN
CALSCALE:GREGORIAN
METHOD:PUBLISH
X-ORIGINAL-URL:https://stratfordcountryclub.ca
X-WR-CALDESC:Events for Stratford Country Club
REFRESH-INTERVAL;VALUE=DURATION:PT1H
X-Robots-Tag:noindex
X-PUBLISHED-TTL:PT1H
BEGIN:VTIMEZONE
TZID:UTC
BEGIN:STANDARD
TZOFFSETFROM:+0000
TZOFFSETTO:+0000
TZNAME:UTC
DTSTART:20240101T000000
END:STANDARD
END:VTIMEZONE
BEGIN:VEVENT
DTSTART;TZID=UTC:20250705T100000
DTEND;TZID=UTC:20250705T113000
DTSTAMP:20260423T094825
CREATED:20250313T155206Z
LAST-MODIFIED:20250514T162647Z
UID:5187-1751709600-1751715000@stratfordcountryclub.ca
SUMMARY:Sr Men's Club Championship Rd 2
DESCRIPTION:
URL:https://stratfordcountryclub.ca/event/sr-mens-club-championship-rd-2/
END:VEVENT
END:VCALENDAR