BEGIN:VCALENDAR
VERSION:2.0
PRODID:-//Stratford Country Club - ECPv6.15.20//NONSGML v1.0//EN
CALSCALE:GREGORIAN
METHOD:PUBLISH
X-ORIGINAL-URL:https://stratfordcountryclub.ca
X-WR-CALDESC:Events for Stratford Country Club
REFRESH-INTERVAL;VALUE=DURATION:PT1H
X-Robots-Tag:noindex
X-PUBLISHED-TTL:PT1H
BEGIN:VTIMEZONE
TZID:UTC
BEGIN:STANDARD
TZOFFSETFROM:+0000
TZOFFSETTO:+0000
TZNAME:UTC
DTSTART:20210101T000000
END:STANDARD
END:VTIMEZONE
BEGIN:VEVENT
DTSTART;TZID=UTC:20220815T080000
DTEND;TZID=UTC:20220819T120000
DTSTAMP:20260425T141439
CREATED:20220711T131046Z
LAST-MODIFIED:20220711T131109Z
UID:3499-1660550400-1660910400@stratfordcountryclub.ca
SUMMARY:Junior Golf Camp
DESCRIPTION:Practice facilities are reserved from 830am to 12pm each day for these fun filled camps.
URL:https://stratfordcountryclub.ca/event/junior-golf-camp-4/
END:VEVENT
BEGIN:VEVENT
DTSTART;TZID=UTC:20220818T130000
DTEND;TZID=UTC:20220818T200000
DTSTAMP:20260425T141439
CREATED:20220512T102427Z
LAST-MODIFIED:20220606T231356Z
UID:3448-1660827600-1660852800@stratfordcountryclub.ca
SUMMARY:Annual Women's Team Scramble
DESCRIPTION:
URL:https://stratfordcountryclub.ca/event/annual-womens-team-scramble/
END:VEVENT
END:VCALENDAR