BEGIN:VCALENDAR
VERSION:2.0
PRODID:-//Stratford Country Club - ECPv6.15.20//NONSGML v1.0//EN
CALSCALE:GREGORIAN
METHOD:PUBLISH
X-ORIGINAL-URL:https://stratfordcountryclub.ca
X-WR-CALDESC:Events for Stratford Country Club
REFRESH-INTERVAL;VALUE=DURATION:PT1H
X-Robots-Tag:noindex
X-PUBLISHED-TTL:PT1H
BEGIN:VTIMEZONE
TZID:UTC
BEGIN:STANDARD
TZOFFSETFROM:+0000
TZOFFSETTO:+0000
TZNAME:UTC
DTSTART:20210101T000000
END:STANDARD
END:VTIMEZONE
BEGIN:VEVENT
DTSTART;TZID=UTC:20220704T080000
DTEND;TZID=UTC:20220708T120000
DTSTAMP:20260425T141334
CREATED:20220711T130732Z
LAST-MODIFIED:20220711T130732Z
UID:3493-1656921600-1657281600@stratfordcountryclub.ca
SUMMARY:Junior Golf Camp
DESCRIPTION:Practice Facilities will be reserved from 830am-12pm daily for these fun filled camps! \n 
URL:https://stratfordcountryclub.ca/event/junior-golf-camp/
END:VEVENT
BEGIN:VEVENT
DTSTART;TZID=UTC:20220706T130000
DTEND;TZID=UTC:20220706T183000
DTSTAMP:20260425T141334
CREATED:20220512T102631Z
LAST-MODIFIED:20220512T102631Z
UID:3452-1657112400-1657132200@stratfordcountryclub.ca
SUMMARY:Rotary Club of Stratford Golf Event
DESCRIPTION:
URL:https://stratfordcountryclub.ca/event/rotary-club-of-stratford-golf-event/
END:VEVENT
END:VCALENDAR